BEGIN:VCALENDAR
CALSCALE:GREGORIAN
VERSION:2.0
X-WR-CALNAME:Ruby Conf Australia
METHOD:PUBLISH
PRODID:-//Apple Inc.//iCal 5.0.3//EN
BEGIN:VEVENT
TRANSP:TRANSPARENT
DTEND;VALUE=DATE:20150207
UID:64BB2417-5A5D-49E1-865A-388BE115911D
DTSTAMP:20130921T024534Z
LOCATION:Deakin Edge\nFed Square, Melbourne
DESCRIPTION:Workshops on 4 Feb 2015\nConference on 5-6 Feb 2015\nSpecial Events on 7 Feb 2015
URL;VALUE=URI:rubyconf.org.au
SEQUENCE:6
SUMMARY:Ruby Conf Australia
DTSTART;VALUE=DATE:20150204
CREATED:20130921T024534Z
END:VEVENT
END:VCALENDAR
